BEGIN:VCALENDAR
VERSION:2.0
PRODID:-//Your Company//NONSGML Event//EN
BEGIN:VEVENT
SUMMARY:Manchester Leather Weekend 2026
DESCRIPTION:
LOCATION:Canal Street, Manchester, UK
DTSTART:20261002T000000Z
DTEND:20261005T235959Z
DTSTAMP:2026-04-23 14:53:37
UID:69ea3271a715f@manchesterleathermen.com
END:VEVENT
END:VCALENDAR